BEGIN:VCALENDAR
VERSION:2.0
PRODID:-//wp-events-plugin.com//7.2.3.1//EN
TZID:America/New_York
X-WR-TIMEZONE:America/New_York
BEGIN:VEVENT
UID:64@libertycitizen.com
DTSTART;TZID=America/New_York:20260423T180000
DTEND;TZID=America/New_York:20260423T200000
DTSTAMP:20260419T124255Z
URL:https://libertycitizen.com/events/monthly-fra-meeting-apr-23rd-at-tava
 res-civic-center/
SUMMARY:Monthly FRA Meeting – Apr 23rd\, at Tavares Civic Center
DESCRIPTION:We will be meeting this month at the Tavares Civic Center as us
 ual.\nDetails in attached flyer\; Click on it to enlarge.\n\n\n\n&nbsp\;\n
 \n&nbsp\;\nA truth that applies in every situation\; If you can't defend 
 it\, you don't own it \n
ATTACH;FMTTYPE=image/jpeg:https://libertycitizen.com/wp-content/uploads/20
 25/05/FRA-Square.jpg
CATEGORIES:Local
LOCATION:Tavares Civic Center\, 100 E Caroline St\, Tavares\, FL 32778\, Ta
 vares\, United States
X-APPLE-STRUCTURED-LOCATION;VALUE=URI;X-ADDRESS=100 E Caroline St\, Tavares
 \, FL 32778\, Tavares\, United States;X-APPLE-RADIUS=100;X-TITLE=Tavares C
 ivic Center:geo:0,0
END:VEVENT
BEGIN:VTIMEZONE
TZID:America/New_York
X-LIC-LOCATION:America/New_York
BEGIN:DAYLIGHT
DTSTART:20260308T030000
TZOFFSETFROM:-0500
TZOFFSETTO:-0400
TZNAME:EDT
END:DAYLIGHT
END:VTIMEZONE
END:VCALENDAR