BEGIN:VCALENDAR
VERSION:2.0
PRODID:-//wp-events-plugin.com//7.2.3.1//EN
TZID:America/New_York
X-WR-TIMEZONE:America/New_York
BEGIN:VEVENT
UID:65@libertycitizen.com
DTSTART;TZID=America/New_York:20260428T180000
DTEND;TZID=America/New_York:20260428T193000
DTSTAMP:20260419T131957Z
URL:https://libertycitizen.com/events/april-lcrec-meeting-announcement-ven
 etian-center/
SUMMARY:April LCREC Meeting Announcement - Venetian Center
DESCRIPTION:In case you did not get the email from Lake County Republican E
 xecutive Committee\, here are the details for the next meeting.\n\n"The LA
 KEGOP April Meeting will be held\, Monday\, April 28th.\n\nDate: Monday\, 
 April\nTime: 6:00 PM (Doors open at 5:30 PM)\nLocation: Venetian Center\, 
 1 Dozier Circle in Leesburg\n\nIf you are interested in being considered f
 or membership or have any questions regarding your current or prospective 
 membership\, please feel free to reach out to lakegopmembership@gmail.com.
  The team will be happy to provide additional information and assist you i
 n any way.\n\nDon't forget 3 unexcused absences in a row is dismissal from
  the Lake GOP.\n\nNOTE:  LCREC has an easy way to record an excused absen
 ce.  There is a form on the website Home Page under the Events tab\, drop
  down Meeting Attendance or just click on this link: Meeting Attendance\n\
 n&nbsp\;
ATTACH;FMTTYPE=image/jpeg:https://libertycitizen.com/wp-content/uploads/20
 25/05/LCREC-logo.jpg
LOCATION:The Venetian Center\, 1 Dozier Circle\, Leesburg\, FL 34748\, Lees
 burg\, United States
X-APPLE-STRUCTURED-LOCATION;VALUE=URI;X-ADDRESS=1 Dozier Circle\, Leesburg\
 , FL 34748\, Leesburg\, United States;X-APPLE-RADIUS=100;X-TITLE=The Venet
 ian Center:geo:0,0
END:VEVENT
BEGIN:VTIMEZONE
TZID:America/New_York
X-LIC-LOCATION:America/New_York
BEGIN:DAYLIGHT
DTSTART:20260308T030000
TZOFFSETFROM:-0500
TZOFFSETTO:-0400
TZNAME:EDT
END:DAYLIGHT
END:VTIMEZONE
END:VCALENDAR